BEGIN:VCALENDAR
VERSION:2.0
PRODID:-//FORTE CULTURA Network - ECPv6.15.20//NONSGML v1.0//EN
CALSCALE:GREGORIAN
METHOD:PUBLISH
X-WR-CALNAME:FORTE CULTURA Network
X-ORIGINAL-URL:https://www.forte-cultura.network
X-WR-CALDESC:Events for FORTE CULTURA Network
REFRESH-INTERVAL;VALUE=DURATION:PT1H
X-Robots-Tag:noindex
X-PUBLISHED-TTL:PT1H
BEGIN:VTIMEZONE
TZID:Europe/Berlin
BEGIN:DAYLIGHT
TZOFFSETFROM:+0100
TZOFFSETTO:+0200
TZNAME:CEST
DTSTART:20250330T010000
END:DAYLIGHT
BEGIN:STANDARD
TZOFFSETFROM:+0200
TZOFFSETTO:+0100
TZNAME:CET
DTSTART:20251026T010000
END:STANDARD
BEGIN:DAYLIGHT
TZOFFSETFROM:+0100
TZOFFSETTO:+0200
TZNAME:CEST
DTSTART:20260329T010000
END:DAYLIGHT
BEGIN:STANDARD
TZOFFSETFROM:+0200
TZOFFSETTO:+0100
TZNAME:CET
DTSTART:20261025T010000
END:STANDARD
BEGIN:DAYLIGHT
TZOFFSETFROM:+0100
TZOFFSETTO:+0200
TZNAME:CEST
DTSTART:20270328T010000
END:DAYLIGHT
BEGIN:STANDARD
TZOFFSETFROM:+0200
TZOFFSETTO:+0100
TZNAME:CET
DTSTART:20271031T010000
END:STANDARD
END:VTIMEZONE
BEGIN:VEVENT
DTSTART;TZID=Europe/Berlin:20260415T000000
DTEND;TZID=Europe/Berlin:20260419T235959
DTSTAMP:20260425T153349
CREATED:20250418T125338Z
LAST-MODIFIED:20250530T132919Z
UID:2225-1776211200-1776643199@www.forte-cultura.network
SUMMARY:INTERFEST Annual Congress 2026\, Dresden (DE)
DESCRIPTION:Jahrestreffen des Studienkreises für internationales Festungs-\, Militär- und Schutzbauwesen (INTERFEST).
URL:https://www.forte-cultura.network/event/interfest-annual-congress-2026/
LOCATION:Dresden\, Brühlsche Terrasse\, Dresden\, 01067\, Germany
CATEGORIES:Conferences
END:VEVENT
END:VCALENDAR