BEGIN:VCALENDAR
VERSION:2.0
PRODID:-//FORTE CULTURA Network - ECPv6.15.20//NONSGML v1.0//EN
CALSCALE:GREGORIAN
METHOD:PUBLISH
X-WR-CALNAME:FORTE CULTURA Network
X-ORIGINAL-URL:https://www.forte-cultura.network
X-WR-CALDESC:Events for FORTE CULTURA Network
REFRESH-INTERVAL;VALUE=DURATION:PT1H
X-Robots-Tag:noindex
X-PUBLISHED-TTL:PT1H
BEGIN:VTIMEZONE
TZID:Europe/Berlin
BEGIN:DAYLIGHT
TZOFFSETFROM:+0100
TZOFFSETTO:+0200
TZNAME:CEST
DTSTART:20230326T010000
END:DAYLIGHT
BEGIN:STANDARD
TZOFFSETFROM:+0200
TZOFFSETTO:+0100
TZNAME:CET
DTSTART:20231029T010000
END:STANDARD
BEGIN:DAYLIGHT
TZOFFSETFROM:+0100
TZOFFSETTO:+0200
TZNAME:CEST
DTSTART:20240331T010000
END:DAYLIGHT
BEGIN:STANDARD
TZOFFSETFROM:+0200
TZOFFSETTO:+0100
TZNAME:CET
DTSTART:20241027T010000
END:STANDARD
BEGIN:DAYLIGHT
TZOFFSETFROM:+0100
TZOFFSETTO:+0200
TZNAME:CEST
DTSTART:20250330T010000
END:DAYLIGHT
BEGIN:STANDARD
TZOFFSETFROM:+0200
TZOFFSETTO:+0100
TZNAME:CET
DTSTART:20251026T010000
END:STANDARD
END:VTIMEZONE
BEGIN:VEVENT
DTSTART;TZID=Europe/Berlin:20240611T000000
DTEND;TZID=Europe/Berlin:20240615T235959
DTSTAMP:20260426T060807
CREATED:20240125T122825Z
LAST-MODIFIED:20240125T123011Z
UID:1017-1718064000-1718495999@www.forte-cultura.network
SUMMARY:Association Vauban - Jahreskongress 2024\, Metz (FR)
DESCRIPTION:Konferenzprogramm (FR)
URL:https://www.forte-cultura.network/event/association-vauban-jahreskongress-2024-metz-fr/
LOCATION:Metz\, Metz\, Frankreich
CATEGORIES:Conferences
END:VEVENT
BEGIN:VEVENT
DTSTART;TZID=Europe/Berlin:20240422T000000
DTEND;TZID=Europe/Berlin:20240427T235959
DTSTAMP:20260426T060807
CREATED:20240105T121116Z
LAST-MODIFIED:20240125T122933Z
UID:797-1713744000-1714262399@www.forte-cultura.network
SUMMARY:5. Internationale Biehler-Forts-Tagung\, Poznan (PL)
DESCRIPTION:Provisional Program \n\n\n\n22.04 – Monday Fort Va\, Fort V\, Lectures on Fort Va\, Abraham’s Shelter \n\n\n\n23.04 – TuesdayFort VI\, Fort Via\, Lectures on Fort VI \n\n\n\n24.04 – WednesdayFort VII + attached battery\, Lectures on Fort VII \n\n\n\n25.04 – ThursdayFort Winiary Citadel\, Museum of Armament\, Infantry resistance point at Miłostów\, Weir on the White Mountain and infantry shelter J2 IIa \n\n\n\n26.04 – FridayImperial Castle\, German BASA system railway communication shelter\, Colomb Bastion\, lectures\, Colomb Bastion – tour and informal meeting/exchange of experiences \n\n\n\n27.04 – SaturdayPoznan City Council shelter\, Pilicka shelter\, Armoured Weapons Museum\, \n\n\n\n28.04 – SundayDepartures
URL:https://www.forte-cultura.network/event/5-internationale-biehler-fort-tagung/
LOCATION:Poznan\, Poznan\, Polen
CATEGORIES:Conferences
END:VEVENT
BEGIN:VEVENT
DTSTART;TZID=Europe/Berlin:20240418T000000
DTEND;TZID=Europe/Berlin:20240420T235959
DTSTAMP:20260426T060807
CREATED:20231227T124853Z
LAST-MODIFIED:20240106T124643Z
UID:288-1713398400-1713657599@www.forte-cultura.network
SUMMARY:FORTMED 2024\, Tirana (AL)
DESCRIPTION:International Conference on Modern Age Fortifications of the Mediterranean coast. The conference will take place on the 18th\, 19th and 20th April 2024 at the Polytechnic University in Tirana\, Albania.
URL:https://www.forte-cultura.network/event/test/
LOCATION:Polytechnische Universität Tirana\, Bulevardi Dëshmorët e Kombit Nr. 4\, Tirana\, 1000\, Albanien
CATEGORIES:Conferences
ATTACH;FMTTYPE=image/jpeg:https://www.forte-cultura.network/wp-content/uploads/2023/12/mapint15.jpg
END:VEVENT
BEGIN:VEVENT
DTSTART;TZID=Europe/Berlin:20240417T000000
DTEND;TZID=Europe/Berlin:20240421T235959
DTSTAMP:20260426T060807
CREATED:20231227T152400Z
LAST-MODIFIED:20240106T124654Z
UID:351-1713312000-1713743999@www.forte-cultura.network
SUMMARY:INTERFEST Jahrestreffen\, Torun (PL)
DESCRIPTION:Jahrestreffen des Studienkreises für internationales Festungs-\, Militär- und Schutzbauwesen (INTERFEST). \n\n\n\nVorläufiges Programm: \n\n\n\nMittwoch\, 17.04.2024Anreise18:30 Uhr Begrüßung und Abendessen im Fort IV \n\n\n\nDonnerstag\, 18.04.2024vormittags: Besichtigung von altstädtischen Wehranlagen und Kern der Festung\, u.a. ehemalige Nord-und Westfront\, Deutschordensschloss; nachmittags: Museum der Festung Thorn\, nordöstliche und östliche polygonale Wehranlagen des Kerns\, Jacobsfort\, Eisenbahnbrücke \n\n\n\nFreitag\, 19.04.2024vormittags: Fort IlI (Werk L’Estoq) und Fort li (Fort I): Zugangsmöglichkeit muss geklärt werden\, Feste Kaiser Wilhelm I und Ensemble; nachmittags: linkes Weichselufer: u.a.· Fort XV (VII)\, Panzerbatterie li\, Eisenbahnfort\, Freilichtmuseum der Panzerfortifikation \n\n\n\nSamstag\, 20.04.2024vormittags: rechtes Weichselufer: u.a. Fort IV (li)\, Fort VI (llla); nachmittags: u.a. Fort VII (IV)\, Fort IX (IVb); 20:00 Uhr Mitgliederversammlung und Wahlen zum Präsidium \n\n\n\nSonntag\, 21.04.2024Rückreise der Teilnehmer oder Besuch weiterer Ziele in eigener Regie
URL:https://www.forte-cultura.network/event/interfest-jahrestreffen/
LOCATION:Torun\, Torun\, Polen
CATEGORIES:Conferences
END:VEVENT
BEGIN:VEVENT
DTSTART;TZID=Europe/Berlin:20240408T000000
DTEND;TZID=Europe/Berlin:20240410T235959
DTSTAMP:20260426T060807
CREATED:20231227T113651Z
LAST-MODIFIED:20240321T075202Z
UID:242-1712534400-1712793599@www.forte-cultura.network
SUMMARY:FORTE CULTURA Jahreskongress 2024\, Strasbourg (FR)
DESCRIPTION:8. April 2024: FORTE CULTURA Mitgliederversammlung 2024 mit freundlicher Unterstützung des Collectivité européenne d’Alsace \n\n\n\n9. April 2024: FORTE CULTURA Jahreskongress 2024 “Kulturerbe Festungsmonumente – Baustein der Geschichte der Demokratiebewegung in Europa“\, mit freundlicher Unterstützung des Parlaments der Europäischen Union \n\n\n\n10. April 2024: Exkursionsprogramm\, mit freundlicher Unterstützung des FORTE CULTURA Regionalnetzwerks „Festungen und wehrgeschichtliche Museen 1870 bis 1999“ sowie des Arbeitskreises „Historische Linien und Festungen am Oberrhein“ \n\n\n\nvorläufiges Programm zum Download (pdf) \n\n\n\nOnline-Registration (Eventbrite) Anmeldeschluss 2. April 2024 \n\n\n\nFür Nichtmitglieder von FORTE CULTURA wird eine Konferenzgebühr von 140€ je Person erhoben\, welche das Catering im EU-Parlament\, das Offizielle Dinner am 9. April sowie alle Exkursionen am 10. April und die Bootsfahrt am 8. April enthält. Wir bitten um Verständnis.
URL:https://www.forte-cultura.network/event/forte-cultura-jahreskongress-2024/
LOCATION:Straßburg\, Straßburg\, Frankreich
CATEGORIES:Conferences,Featured
ATTACH;FMTTYPE=image/png:https://www.forte-cultura.network/wp-content/uploads/2023/12/223007625-das-europaische-parlament-1.jpg
END:VEVENT
END:VCALENDAR