BEGIN:VCALENDAR
VERSION:2.0
PRODID:-//FORTE CULTURA Network - ECPv6.15.20//NONSGML v1.0//EN
CALSCALE:GREGORIAN
METHOD:PUBLISH
X-WR-CALNAME:FORTE CULTURA Network
X-ORIGINAL-URL:https://www.forte-cultura.network
X-WR-CALDESC:Events for FORTE CULTURA Network
REFRESH-INTERVAL;VALUE=DURATION:PT1H
X-Robots-Tag:noindex
X-PUBLISHED-TTL:PT1H
BEGIN:VTIMEZONE
TZID:Europe/Berlin
BEGIN:DAYLIGHT
TZOFFSETFROM:+0100
TZOFFSETTO:+0200
TZNAME:CEST
DTSTART:20240331T010000
END:DAYLIGHT
BEGIN:STANDARD
TZOFFSETFROM:+0200
TZOFFSETTO:+0100
TZNAME:CET
DTSTART:20241027T010000
END:STANDARD
BEGIN:DAYLIGHT
TZOFFSETFROM:+0100
TZOFFSETTO:+0200
TZNAME:CEST
DTSTART:20250330T010000
END:DAYLIGHT
BEGIN:STANDARD
TZOFFSETFROM:+0200
TZOFFSETTO:+0100
TZNAME:CET
DTSTART:20251026T010000
END:STANDARD
BEGIN:DAYLIGHT
TZOFFSETFROM:+0100
TZOFFSETTO:+0200
TZNAME:CEST
DTSTART:20260329T010000
END:DAYLIGHT
BEGIN:STANDARD
TZOFFSETFROM:+0200
TZOFFSETTO:+0100
TZNAME:CET
DTSTART:20261025T010000
END:STANDARD
END:VTIMEZONE
BEGIN:VEVENT
DTSTART;TZID=Europe/Berlin:20251202T000000
DTEND;TZID=Europe/Berlin:20251204T235959
DTSTAMP:20260426T002422
CREATED:20241027T111644Z
LAST-MODIFIED:20251102T121217Z
UID:1531-1764633600-1764892799@www.forte-cultura.network
SUMMARY:EFFORTS Europe Congress 2025  'Inspiring across borders'
DESCRIPTION:We invite you to the first cross-border annual EFFORTS travelling network congress: meet three cities in three countries and their fortified city development :  \n\n\n\nArras (member of the UNESCO Réseau des Sites majeurs de Vauban – FR)\, \n\n\n\nBergen op Zoom (member city of Zuiderwaterlinie and Vereniging van Nederlandse Vestingsteden – NL) \n\n\n\nOudenaarde (member city of Vlaamse Vestingsteden and the Wellington Barrier City Cooperation\, BE).\n\n\n\nConnecting the three cities in a two-day travelling congress departing from Brussels\, participants are invited to interact with city-planners and heritage experts working on a sustainable reuse of their fortified heritage and this in a European cross-border project space. \n\n\n\nREGISTER NOW \n\n\n\nThe congress is free of charge for EFFORTS Europe members\, courtesy of the participating cities and regional partners. Evening dinners are at own expense and participants are to organise hotels in Brussels themselves. \n\n\n\nIn cooperation with the cities of Arras (FR)\, Bergen op Zoom (NL) and Oudenaarde (BE)
URL:https://www.forte-cultura.network/event/efforts-jahreskongress-2025/
LOCATION:Brussels
CATEGORIES:Conferences
ATTACH;FMTTYPE=image/jpeg:https://www.forte-cultura.network/wp-content/uploads/2024/10/citadelle_vue_aerienne_copie_3a.jpg
END:VEVENT
BEGIN:VEVENT
DTSTART;TZID=Europe/Berlin:20251216T093000
DTEND;TZID=Europe/Berlin:20251216T130000
DTSTAMP:20260426T002422
CREATED:20251121T150502Z
LAST-MODIFIED:20251204T082308Z
UID:3555-1765877400-1765890000@www.forte-cultura.network
SUMMARY:FORTE CULTURA Online Member Meeting 2025 (OMM)
DESCRIPTION:The OMM is an opportunity for our members to connect with each other and get to know each other better. It serves to give you a platform to present your current activities and upcoming challenges to our network. Each registered network member will have a maximum of 10 minutes to do so. You are welcome to use videos and other presentation formats. \n\n\n\nTake advantage of this opportunity to find ideas and partners for your projects. Do you have specific questions? Address them directly to our members\, the network board or the scientific advisory board. \n\n\n\nTo ensure that everything runs smoothly\, please register by email by 15 December at the latest\, providing the following information: \n\n\n\nName\n\n\n\nInstitute\n\n\n\nWould you like to present your fortress monument? Yes / No.(The presentation should be in English)\n\n\n\nThe first-come\, first-served principle applies for the approx. 20 presentation slots.  \n\n\n\nPlease do not hesitate to contact us if you have any questions.
URL:https://www.forte-cultura.network/event/forte-cultura-online-member-meeting-2025-omm/
LOCATION:Online
CATEGORIES:Conferences
ATTACH;FMTTYPE=image/jpeg:https://www.forte-cultura.network/wp-content/uploads/2025/11/OMM2025-cover-web.jpg
END:VEVENT
END:VCALENDAR