BEGIN:VCALENDAR
VERSION:2.0
PRODID:-//FORTE CULTURA Network - ECPv6.15.20//NONSGML v1.0//EN
CALSCALE:GREGORIAN
METHOD:PUBLISH
X-ORIGINAL-URL:https://www.forte-cultura.network
X-WR-CALDESC:Events for FORTE CULTURA Network
REFRESH-INTERVAL;VALUE=DURATION:PT1H
X-Robots-Tag:noindex
X-PUBLISHED-TTL:PT1H
BEGIN:VTIMEZONE
TZID:Europe/Berlin
BEGIN:DAYLIGHT
TZOFFSETFROM:+0100
TZOFFSETTO:+0200
TZNAME:CEST
DTSTART:20250330T010000
END:DAYLIGHT
BEGIN:STANDARD
TZOFFSETFROM:+0200
TZOFFSETTO:+0100
TZNAME:CET
DTSTART:20251026T010000
END:STANDARD
BEGIN:DAYLIGHT
TZOFFSETFROM:+0100
TZOFFSETTO:+0200
TZNAME:CEST
DTSTART:20260329T010000
END:DAYLIGHT
BEGIN:STANDARD
TZOFFSETFROM:+0200
TZOFFSETTO:+0100
TZNAME:CET
DTSTART:20261025T010000
END:STANDARD
BEGIN:DAYLIGHT
TZOFFSETFROM:+0100
TZOFFSETTO:+0200
TZNAME:CEST
DTSTART:20270328T010000
END:DAYLIGHT
BEGIN:STANDARD
TZOFFSETFROM:+0200
TZOFFSETTO:+0100
TZNAME:CET
DTSTART:20271031T010000
END:STANDARD
END:VTIMEZONE
BEGIN:VEVENT
DTSTART;TZID=Europe/Berlin:20260219T000000
DTEND;TZID=Europe/Berlin:20260221T235959
DTSTAMP:20260425T173150
CREATED:20250418T124654Z
LAST-MODIFIED:20250530T132931Z
UID:2219-1771459200-1771718399@www.forte-cultura.network
SUMMARY:FORTMED 2026\, Rome (IT)
DESCRIPTION:FORTIFICATIONS OF THE MEDITERRANEAN COASTInternational Conference – Sapienza University of Rome\, Italy \n\n\n\nFORTMED 2026_Roma is the ninth edition of the Conference Fortications of the Mediterranean Coast. The Conference\, organized by the Department of History\, Representation and Restoration of Architecture at Sapienza University of Rome\, will take place on February 19\, 20\, and 21\, 2026\, at the new location of the Faculty of Architecture in Via Mariano Fortuny\, in the Borghetto Flaminio area. \n\n\n\n \n\n\n\nCALL FOR PAPER FORTMED_2026 ENDownload
URL:https://www.forte-cultura.network/event/fortmed-2026/
CATEGORIES:Conferences
ATTACH;FMTTYPE=image/png:https://www.forte-cultura.network/wp-content/uploads/2025/04/fortmed.png
END:VEVENT
END:VCALENDAR